DSET f:\T\DAILY\DAILY_1.0\UPLOADING_1.0\MAX_1.0\max1_18072019.GRD
TITLE 1.0 DEGREE ANALYZED GRIDS
UNDEF 99.9
XDEF 31 LINEAR 67.5 1.0
YDEF 31 LINEAR 7.5 1.0
ZDEF 1 LINEAR 1 1
TDEF 1 LINEAR JUN2006 1DY
VARS 1
Tmax 0 99 TACTUAL
ENDVARS
