DSET P:\TEMP.GRD
TITLE 0.5 DEGREE ANALYZED GRIDS
UNDEF 99.9
XDEF 61 LINEAR 67.5 0.5
YDEF 61 LINEAR 7.5 0.5
ZDEF 1 LINEAR 1 1
TDEF 1 LINEAR 1JAN1994 1DY
VARS 1
T 0 99 TEMPERATURE
ENDVARS
